BEGIN:VCALENDAR
VERSION:2.0
PRODID:-//KulturAgentur Alex Bolland - ECPv6.15.20//NONSGML v1.0//EN
CALSCALE:GREGORIAN
METHOD:PUBLISH
X-ORIGINAL-URL:https://alex-bolland.de
X-WR-CALDESC:Veranstaltungen für KulturAgentur Alex Bolland
REFRESH-INTERVAL;VALUE=DURATION:PT1H
X-Robots-Tag:noindex
X-PUBLISHED-TTL:PT1H
BEGIN:VTIMEZONE
TZID:Europe/Berlin
BEGIN:DAYLIGHT
TZOFFSETFROM:+0100
TZOFFSETTO:+0200
TZNAME:CEST
DTSTART:20250330T010000
END:DAYLIGHT
BEGIN:STANDARD
TZOFFSETFROM:+0200
TZOFFSETTO:+0100
TZNAME:CET
DTSTART:20251026T010000
END:STANDARD
BEGIN:DAYLIGHT
TZOFFSETFROM:+0100
TZOFFSETTO:+0200
TZNAME:CEST
DTSTART:20260329T010000
END:DAYLIGHT
BEGIN:STANDARD
TZOFFSETFROM:+0200
TZOFFSETTO:+0100
TZNAME:CET
DTSTART:20261025T010000
END:STANDARD
BEGIN:DAYLIGHT
TZOFFSETFROM:+0100
TZOFFSETTO:+0200
TZNAME:CEST
DTSTART:20270328T010000
END:DAYLIGHT
BEGIN:STANDARD
TZOFFSETFROM:+0200
TZOFFSETTO:+0100
TZNAME:CET
DTSTART:20271031T010000
END:STANDARD
END:VTIMEZONE
BEGIN:VEVENT
DTSTART;TZID=Europe/Berlin:20260424T200000
DTEND;TZID=Europe/Berlin:20260424T200000
DTSTAMP:20260424T045526
CREATED:20250901T110135Z
LAST-MODIFIED:20260216T163010Z
UID:7327-1777060800-1777060800@alex-bolland.de
SUMMARY:I Cantautori
DESCRIPTION:Aurelium\, Lappersdorf \n\n„Lieder und Geschichten aus Italien“ \n  \n„Lieder und Geschichten aus Italien“ – ein außergewöhnliches Konzert mit der Musik und den Geschichten aus Bella Italia versprechen die drei bekannten Musiker Rocky Verardo (Gesang\, Piano\, Akkordeon\, Gitarre)\, Richie Necker (Gitarre\, Mandoline\, Bass\, Gesang)\, beide bekannt aus der bekannten Italo-Pop-Band „I Dolci Signori“ und Andrea Paoletti (Percussion\, Gesang\, Gitarre). \nI CANTAUTORI spielen mit Authentizität und Emotion die Lieder\, die die italienische Kultur der letzten Jahrzehnte geprägt haben\, die jeder Italiener kennt und liebt\, und tauchen dabei tief in die Seele der italienischen Musik und Poesie ein. \n  \nMit wunderbaren\, akustischen Arrangements zeigen sie die poetische Seite der italienischen Musik und verneigen sich damit vor großen „cantautori“ wie Lucio Dalia\, Francesco de Gregori\, Fabrizio de André und auch vor Künstlern wie Zucchero\, Paolo Conte und Pippo Pollina. \n 
URL:https://alex-bolland.de/event/i-cantautori-fr24042026/
LOCATION:Aurelium\, Am Anger 1\, Lappersdorf\, 93138\, Germany
CATEGORIES:akustisch,I Dolci Signori,italienisch,Singer/Songwriter,Weltmusik
ATTACH;FMTTYPE=image/jpeg:https://alex-bolland.de/wp-content/uploads/2024/08/I-Cantautori-web-1-Foto-Uli-Zrenner-Wolkenstein.jpg
END:VEVENT
BEGIN:VEVENT
DTSTART;TZID=Europe/Berlin:20260516T200000
DTEND;TZID=Europe/Berlin:20260516T200000
DTSTAMP:20260424T045526
CREATED:20250901T113624Z
LAST-MODIFIED:20250903T115313Z
UID:7331-1778961600-1778961600@alex-bolland.de
SUMMARY:Helmut Schleich
DESCRIPTION:Aurelium\, Lappersdorf \nmit brandneuem Programm ! ! !\nHelmut Schleich\, einer der besten Satiriker Deutschlands hat ein brandneues Programm. Das ist so neu\, dass es aktuell noch nicht mal einen Titel hat…aber eigentlich braucht es ja gar keinen Titel.\nDenn Helmut Schleich macht eh\, was er will. Kein Abend gleicht dem anderen. Sein Vorbild ist die Regierung. Und so sagt er sich: was kümmert mich mein Geschwätz von gestern. Gutes Kabarett und Politik haben eben doch was gemein: Schließlich leben wir in einer Zeit\, wo die Wirklichkeit das Kabarett Tag für Tag überbietet.\nHelmut Schleich ist eine der markantesten Größen in der deutschsprachigen Kabarett-Landschaft und vor allem als Gastgeber seiner eigenen Polit-Kabarettsendung „SchleichFernsehen“ bekannt. Und seine Preise lassen sich auch sehen: U.a. Deutscher Kleinkunstpreis 2013\, Bayerischer Kabarettpreis 2015 und Salzburger Stier 2017. \n 
URL:https://alex-bolland.de/event/helmut-schleich-sa16052026/
LOCATION:Aurelium\, Am Anger 1\, Lappersdorf\, 93138\, Germany
CATEGORIES:bayerisch,Helmut Schleich,Kabarett / Comedy
ATTACH;FMTTYPE=image/jpeg:https://alex-bolland.de/wp-content/uploads/2025/09/Helmut-Schleich-2026-web-1-Foto-Susie-Knoll.jpg
END:VEVENT
BEGIN:VEVENT
DTSTART;TZID=Europe/Berlin:20260517T200000
DTEND;TZID=Europe/Berlin:20260517T200000
DTSTAMP:20260424T045526
CREATED:20250901T114938Z
LAST-MODIFIED:20250901T115158Z
UID:7334-1779048000-1779048000@alex-bolland.de
SUMMARY:Götz Alsmann
DESCRIPTION:Aurelium\, Lappersdorf \n\n… bei Nacht … \n…. sind erstens alle Katzen grau und ist zweitens der Mensch nicht gern alleine. \nDie Weisheiten der Sprichwörter und des Schlagers bleiben ewige Wahrheiten…\nKein Wunder\, dass Götz Alsmann auf seinem neuen Album sowie in seinem aktuellen Programm die Nacht zum Mittelpunkt des Abends macht.\nOder den Abend zum Höhepunkt des Tages? \nDazu greift er auf erlesene Preziosen der Schlagergeschichte zurück\, auf melancholische wie humorvolle Glanzstücke von 1910 bis 1965 – und das tut er anders als alle anderen.\nNicht umsonst gilt der Sänger und Pianist Götz Alsmann als der „König des deutschen Jazzschlagers“.\nSelbstredend wäre auch sein aktueller Parforceritt durch das Liederbuch wahrhaft klassischer Schlagermusik und die berückenden Rhythmen der Jazzgeschichte ohne sein legendäres Ensemble nicht denkbar!\nDie Götz Alsmann Band\, die mit ihrem Chef auf ihren Tourneen die Welt gleich mehrfach umrundet hat\, steht auch jetzt wieder für musikalische Top-Qualität und unermüdlichen Einsatz: \nAltfrid M. Sicking (Vibraphon\, Xylophon und mehr)\nIngo Senst (Kontrabass)\nDominik Hahn (Schlagzeug)\nMarkus Paßlick (Percussion) \n„Götz Alsmann … bei Nacht…“ – mehr als nur eine Gute-Nacht-Geschichte! \n 
URL:https://alex-bolland.de/event/goetz-alsmann-so17052026/
LOCATION:Aurelium\, Am Anger 1\, Lappersdorf\, 93138\, Germany
CATEGORIES:akustisch,Pop,Swing / Jazz
ATTACH;FMTTYPE=image/jpeg:https://alex-bolland.de/wp-content/uploads/2025/09/Goetz-Alsmann-bei-Nacht-web-1-quer-©-Jens-Koch.jpg
END:VEVENT
BEGIN:VEVENT
DTSTART;TZID=Europe/Berlin:20261011T160000
DTEND;TZID=Europe/Berlin:20261011T160000
DTSTAMP:20260424T045526
CREATED:20260120T161322Z
LAST-MODIFIED:20260120T161342Z
UID:7536-1791734400-1791734400@alex-bolland.de
SUMMARY:Steffi Denk & Flexible Friends  - 30 Jahre Alzheimer-Gesellschaft
DESCRIPTION:Aurelium\, Lappersdorf \n  \nSteffi Denk & Flexible Friends spielen diesmal speziell auch für die Alzheimer-Gesellschaft zu deren 30-jährigem Jubiläum!\nDenn Musik durchdringt Gefühle\, erleichtert Kommunikation\, weckt gemeinsame Erinnerungen und schafft Gemeinschaft. Das Jubiläumskonzert soll zeigen\, wie Musik als verbindendes Element Menschen zusammenbringt\, Mut macht und Zuversicht spendet. Und wer könnte das besser umsetzen als die wunderbare Steffi Denk mit ihren Flexible Friends\, die mit einer emotionalen Song-Auswahl\, mal witzig\, mal anrührend alle bewegen werden. Gemeinsam mit den Zuhörern schaut die Alzheimer Gesellschaft gleichzeitig zurück auf drei Jahrzehnte engagierter Begleitung und blickt mit neuen Anstößen in eine Zukunft mit gesellschaftlicher Teilhabe von Menschen mit Demenz und deren Angehörigen.
URL:https://alex-bolland.de/event/steffi-denk-flexible-friends-so11102026/
LOCATION:Aurelium\, Am Anger 1\, Lappersdorf\, 93138\, Germany
CATEGORIES:akustisch,Pop,Steffi Denk,Swing / Jazz
ATTACH;FMTTYPE=image/jpeg:https://alex-bolland.de/wp-content/uploads/2020/02/Steffi-Denk-Flexible-Friends-web-1-Foto-Uli-Zrenner-Wolkenstein.jpg
END:VEVENT
BEGIN:VEVENT
DTSTART;TZID=Europe/Berlin:20261114T200000
DTEND;TZID=Europe/Berlin:20261114T200000
DTSTAMP:20260424T045526
CREATED:20251013T100712Z
LAST-MODIFIED:20251013T101044Z
UID:7365-1794686400-1794686400@alex-bolland.de
SUMMARY:Rubey & Schwarz
DESCRIPTION:Aurelium\, Lappersdorf \n\nManuel RUBEY & Simon SCHWARZ \n„ Das Restaurant“ \n  \nDer eine hat als Falco-Darsteller\, der andere als Hilfssheriff Rudi Birkenberger in den Eberhofer-Krimis Berühmtheit erlangt. Beide gehören auch bei Serien-Regisseur David Schalko zum festen Cast. Am Filmset von dessen „Braunschlag“ sind sie Freunde geworden Jetzt stehen die beiden österreichischen Schauspieler Simon Schwarz und Manuel Rubey das erste Mal gemeinsam mit einem Kabarett-Programm auf der Bühne – und begeistern mit wunderbar gespieltem\, sympathischem Schmäh. \n  \nThema: Zwei Freunde\, die ein verfallenes Restaurant aufbrezeln.\nManuel Rubey und Simon Schwarz haben gemeinsam vier linke Hände. Mindestens. Trotzdem halten die beiden Freunde es für eine großartige Idee\, ein Restaurant zu eröffnen. Simon hat schon einmal in einem Film einen Koch gespielt\, und Manuel trinkt gerne Wein. Das dürfte reichen\, denken sie…doch als das Restaurant abbrennt\, geht’s rund.\nEin herrliches Spektakel voller schrägem und schwarzem Humor! \n 
URL:https://alex-bolland.de/event/rubey-und-schwarz-sa14112026/
LOCATION:Aurelium\, Am Anger 1\, Lappersdorf\, 93138\, Germany
CATEGORIES:Kabarett / Comedy,österreichisch,Theater/Muscial
ATTACH;FMTTYPE=image/jpeg:https://alex-bolland.de/wp-content/uploads/2025/10/Rubey-Schwarz-Das-Restaurant-web-1-c-Ingo-Petramer.jpg
END:VEVENT
BEGIN:VEVENT
DTSTART;TZID=Europe/Berlin:20261129T190000
DTEND;TZID=Europe/Berlin:20261129T190000
DTSTAMP:20260424T045526
CREATED:20260212T152704Z
LAST-MODIFIED:20260212T152730Z
UID:7576-1795978800-1795978800@alex-bolland.de
SUMMARY:Weihnachten mit LaLeLu - acapella comedy
DESCRIPTION:Aurelium\, Lappersdorf \n\nSie können gut singen. Sie sehen gut aus. Sie sind wahnsinnig komisch. Und sie brauchen kein einziges Instrument\, um musikalisch das Haus zu rocken: LaLeLu\, die ultimative A-cappella-Sensation aus Hamburg! Mit ihrem einzigartigen Mix aus Gesang und Komik\, Show und Parodie\, Pop und Klassik begeistern sie mit unbändiger Spielfreude Publikum und Presse zwischen Flensburg und Zürich. \nWeihnachten mit LaLeLu – das ist immer etwas ganz Besonderes. Die DHL erscheint als Christkind\, George Michael erklärt\, warum er das ganze Jahr über Angst vor Heiligabend hat\, und Drafi droht: Morgen kommt der Weihnachtsmann! Was aber\, wenn Papa vergessen hat\, den Katzenkalender für Oma zu besorgen? Wenn man sich an Heiligabend ausgesperrt hat und die Gans gerade noch im Ofen schmort? Und wie schafft man es\, in drei Tagen dreizehn Kilo zuzunehmen? LaLeLu enthüllt die ganze Wahrheit über das Fest.\nVirtuos – komisch – einzigartig! \nUnterstützung bekommen sie dabei vom Regensburger Chor „Revoices“.\nIhr inzwischen beeindruckendes Repertoire umfasst Lieder von Coldplay\, Sting\, John Miles\, Paul McCartney\, Toto\, Reinhard Mey\, Peter Fox\, Die Toten Hosen\, Rammstein\, Queen\, The Housemartins\, Mamas and Papas\, Maybebop und Grönemeyer bis zu Bach\, Händel….und natürlich Weihnachtsliedern\, sowohl deutsche als auch internationale…es bleibt spannend\, welche Songs sie zu diesem gemeinsamen\, etwas anderen\, Weihnachtskonzert mitbringen. \n 
URL:https://alex-bolland.de/event/lalelu-so29112026/
LOCATION:Aurelium\, Am Anger 1\, Lappersdorf\, 93138\, Germany
CATEGORIES:akustisch,Kabarett / Comedy,Pop
ATTACH;FMTTYPE=image/jpeg:https://alex-bolland.de/wp-content/uploads/2026/02/LaLeLu-Xmas-web-1-Foto-Jonas-Walzberg.jpg
END:VEVENT
BEGIN:VEVENT
DTSTART;TZID=Europe/Berlin:20261205T200000
DTEND;TZID=Europe/Berlin:20261205T200000
DTSTAMP:20260424T045526
CREATED:20260213T111123Z
LAST-MODIFIED:20260213T111145Z
UID:7583-1796500800-1796500800@alex-bolland.de
SUMMARY:Steffi Denk & Flexible Friends
DESCRIPTION:Aurelium\, Lappersdorf \n  \n                  „Flying home for Christmas“\n  \nAlle Jahre wieder…….Nach den großartigen Erfolgen in den letzten  Jahren\, wird Steffi Denk  auch dieses Jahr mit ihren hochmusikalischen „Flexible Friends“ ein herrlich swingendes und höchst unterhaltsames Christmas-Special geben. Zu hören sind Schmuckstücke aus der reichhaltigen Schatzkiste internationaler Weihnachtslieder\, virtuos und liebevoll arrangiert. \n  \nGanz nach dem Motto „Flying Home for Christmas“ wird es Steffi Denk  mit ihrer unnachahmlichen Stimme und ihren hochmusikalischen Freunden wieder schaffen\, ihren Zuhörern nicht nur einen wie gewohnt höchst unterhaltsamen Abend zu bieten\, sondern sie auch mal witzig\, mal anrührend\, aber immer swingend – in die entsprechende vorweihnachtliche Stimmung zu versetzen.
URL:https://alex-bolland.de/event/steffi-denk-flexible-friends-sa05122026/
LOCATION:Aurelium\, Am Anger 1\, Lappersdorf\, 93138\, Germany
CATEGORIES:akustisch,Steffi Denk,Swing / Jazz
ATTACH;FMTTYPE=image/jpeg:https://alex-bolland.de/wp-content/uploads/2020/02/Steffi-Denk-Flexible-Friends-web-1-Foto-Uli-Zrenner-Wolkenstein.jpg
END:VEVENT
END:VCALENDAR